BEGIN:VCALENDAR
VERSION:2.0
PRODID:-//Mambo Pa Ti - ECPv4.6.13//NONSGML v1.0//EN
CALSCALE:GREGORIAN
METHOD:PUBLISH
X-WR-CALNAME:Mambo Pa Ti
X-ORIGINAL-URL:http://www.mambopati.com
X-WR-CALDESC:Events for Mambo Pa Ti
BEGIN:VEVENT
DTSTART;TZID=UTC+0:20190824T180000
DTEND;TZID=UTC+0:20190825T233000
DTSTAMP:20260422T154727
CREATED:20190623T195330Z
LAST-MODIFIED:20190623T195432Z
UID:10321-1566669600-1566775800@www.mambopati.com
SUMMARY:Summer Salsa Blast August 24
DESCRIPTION:Summer Salsa Blast\nMambo Pa Ti is very excited to announce that we will be back with The Summer Salsa Blast. This year we will have NOT 1 BUT 3 EVENTS starting July 20th\, August 24th & September 14th. Join us in one of the most anticipated event of the summer. There will be great live music\, DJs and dance shows from all over New England and beyond.\n-Free beginners salsa lesson starting at 6pm\n– PERFORMANCES AND LIVE MUSIC TBA\n– Food and Beverages available for purchase\n– After party in Skyline at Water Place @ 1 Finance Way\, Providence RI 02903\nFor VIP tables and more information contact us at 401-952-2490 or via email Mambopati@gmail.com \n
URL:http://www.mambopati.com/dance_event/summer-salsa-blast-2/
LOCATION:2 Kenndy Plaza\, Providence\, RI\, 02903\, United States
ATTACH;FMTTYPE=image/jpeg:http://www.mambopati.com/wp-content/uploads/2019/06/61953165_10156132852817751_5155724054023372800_o.jpg
END:VEVENT
END:VCALENDAR