BEGIN:VCALENDAR
VERSION:2.0
PRODID:-//Mambo Pa Ti - ECPv4.6.13//NONSGML v1.0//EN
CALSCALE:GREGORIAN
METHOD:PUBLISH
X-WR-CALNAME:Mambo Pa Ti
X-ORIGINAL-URL:http://www.mambopati.com
X-WR-CALDESC:Events for Mambo Pa Ti
BEGIN:VEVENT
DTSTART;TZID=UTC+0:20180602T190000
DTEND;TZID=UTC+0:20180602T230000
DTSTAMP:20260422T154334
CREATED:20180517T065441Z
LAST-MODIFIED:20180517T065441Z
UID:9406-1527966000-1527980400@www.mambopati.com
SUMMARY:Help Kelly Fight Cancer!
DESCRIPTION:Our upcoming social will be dedicated to one of our lovely dancer Kelly\, she had been diagnosed with aggressive inflammatory breast cancer and is beginning her battle next week. She will begin with 4 months of chemo therapy. We are hopeful that we employ a growing army to help sustain support for our dear friend in this time of need. All proceeds will help provide day-to-day services for Kelly and her family during this battle. Please come by and help us support Kelly! \nWe will have a ChaChaCha Voogaloo Workshop from 7pm- 8pm. \nWe will sell raffle tickets with great variety of prizes. \nWe will be having special performances by\nNina Bermudez Dance Project\,\nRaices\nTumbao Latin Dance Company\n& More!\n\nTickets will be sold at the door for $10. \nPlease come by and support\, it would be greatly appreciate\, thank you! \n
URL:http://www.mambopati.com/dance_event/mpt-monthly-social-2/
LOCATION:560 Mineral Spring Ave\, Pawtucket\, RI\, 0294\, United States
ATTACH;FMTTYPE=image/jpeg:http://www.mambopati.com/wp-content/uploads/2018/05/32530732_10155345187332751_476359581623123968_o.jpg
END:VEVENT
END:VCALENDAR