BEGIN:VCALENDAR
VERSION:2.0
PRODID:-//Mambo Pa Ti - ECPv4.6.13//NONSGML v1.0//EN
CALSCALE:GREGORIAN
METHOD:PUBLISH
X-WR-CALNAME:Mambo Pa Ti
X-ORIGINAL-URL:http://www.mambopati.com
X-WR-CALDESC:Events for Mambo Pa Ti
BEGIN:VEVENT
DTSTART;TZID=UTC+0:20190601T190000
DTEND;TZID=UTC+0:20190601T230000
DTSTAMP:20260422T154907
CREATED:20190318T212737Z
LAST-MODIFIED:20190504T205113Z
UID:10265-1559415600-1559430000@www.mambopati.com
SUMMARY:MPT's Monthly Social
DESCRIPTION:Saturday June 1st \nSocial: 7:00pm to 11:00pm \n  \n
URL:http://www.mambopati.com/dance_event/monthlysocial/
LOCATION:560 Mineral Spring Ave\, Pawtucket\, RI\, 0294\, United States
ATTACH;FMTTYPE=image/jpeg:http://www.mambopati.com/wp-content/uploads/2019/03/Monthly-Social_060419.jpg
END:VEVENT
END:VCALENDAR